BEGIN:VCALENDAR
VERSION:2.0
PRODID:-//rue-mouffetard.com//2026 Events Calendar//EN
CALSCALE:GREGORIAN
METHOD:PUBLISH
X-WR-CALNAME:Rue Mouffetard 2026 Events - Paris Cultural Calendar
X-WR-CALDESC:Cultural events and festivals in Paris perfect for visitors to Rue Mouffetard market street. Featuring official French cultural celebrations, market-friendly timing, and Latin Quarter accessible events.
X-WR-TIMEZONE:Europe/Paris

BEGIN:VEVENT
UID:european-artistic-crafts-days-2026@rue-mouffetard.com
DTSTART;TZID=Europe/Paris:20260407T100000
DTEND;TZID=Europe/Paris:20260412T180000
SUMMARY:European Artistic Crafts Days (JEMA)
DESCRIPTION:Spring celebration of French artistic crafts with artisan workshops open to the public throughout Paris. Perfect complement to Rue Mouffetard's culinary arts - discover traditional French craftsmanship.\n\nMarket Integration: Morning market visit for fresh ingredients\, afternoon artisan workshop tours in the Latin Quarter. Many workshops walkable from Rue Mouffetard.\n\nTransportation: Multiple Latin Quarter locations accessible on foot\, Metro connections for distant workshops.\n\nAdmission: Varies by workshop\, many free demonstrations available.\n\nOfficial Website: To be confirmed through cultural institutions
LOCATION:Artisan workshops throughout Paris\, Latin Quarter locations
URL:https://www.journeesdesmetiersdart.fr/
CATEGORIES:Cultural,Art,Market-Friendly
STATUS:CONFIRMED
CLASS:PUBLIC
BEGIN:VALARM
ACTION:DISPLAY
DESCRIPTION:European Artistic Crafts Days begins tomorrow
TRIGGER:-P1D
END:VALARM
END:VEVENT

BEGIN:VEVENT
UID:fete-de-la-musique-2026@rue-mouffetard.com
DTSTART;TZID=Europe/Paris:20260621T140000
DTEND;TZID=Europe/Paris:20260621T230000
SUMMARY:Fête de la Musique 2026 - Summer Solstice Music Festival
DESCRIPTION:Annual celebration of music marking the summer solstice with free concerts throughout Paris. Streets\, parks\, venues\, and Metro stations transform into a citywide music festival.\n\nMarket Integration: Perfect opportunity for morning market shopping (8-10 AM) followed by afternoon and evening music events throughout the Latin Quarter.\n\nTransportation: Events throughout Latin Quarter accessible on foot from Rue Mouffetard. Major stages at Place de la Bastille\, Hôtel des Invalides\, Place de la République.\n\nAdmission: FREE - All concerts completely free to the public\n\nLanguage: International music celebration\, accessible to all visitors.\n\nOfficial Website: fetedelamusique.culture.fr
LOCATION:Throughout Paris - Latin Quarter\, Place de la Bastille\, citywide venues
URL:https://fetedelamusique.culture.fr
CATEGORIES:Music,Festival,Free,Market-Friendly
STATUS:CONFIRMED
CLASS:PUBLIC
BEGIN:VALARM
ACTION:DISPLAY
DESCRIPTION:Fête de la Musique - prepare for citywide music celebration!
TRIGGER:-P1D
END:VALARM
END:VEVENT

BEGIN:VEVENT
UID:paris-jazz-festival-2026@rue-mouffetard.com
DTSTART;TZID=Europe/Paris:20260627T140000
DTEND;TZID=Europe/Paris:20260705T220000
SUMMARY:Paris Jazz Festival 2026
DESCRIPTION:Major outdoor jazz festival at Parc Floral attracting 110\,000 visitors annually. Multiple stages featuring international and French jazz artists in beautiful botanical garden setting.\n\nMarket Integration: Excellent summer activity - early morning market shopping\, afternoon picnic and jazz in the park. Perfect for combining fresh market produce with outdoor concert experience.\n\nTransportation: Metro Line 1 to Château de Vincennes\, then bus 112 to Parc Floral (about 45 minutes from Latin Quarter).\n\nAdmission: FREE weekend concerts\, small park entrance fee (approximately €2.60 in summer)\n\nLanguage: International music festival with minimal language barriers.\n\nOfficial Website: parisjazzfestival.fr
LOCATION:Parc Floral de Paris\, Bois de Vincennes
URL:https://parisjazzfestival.fr
CATEGORIES:Music,Jazz,Festival,Market-Friendly
STATUS:CONFIRMED
CLASS:PUBLIC
BEGIN:VALARM
ACTION:DISPLAY
DESCRIPTION:Paris Jazz Festival begins this weekend
TRIGGER:-P1D
END:VALARM
END:VEVENT

BEGIN:VEVENT
UID:bastille-day-2026@rue-mouffetard.com
DTSTART;TZID=Europe/Paris:20260714T100000
DTEND;TZID=Europe/Paris:20260714T230000
SUMMARY:Bastille Day 2026 - French National Day
DESCRIPTION:French National Day celebrating the French Revolution with military parade on Champs-Élysées and spectacular fireworks at the Eiffel Tower. The entire city celebrates with patriotic atmosphere and special events.\n\nMarket Integration: Experience Rue Mouffetard market with special Bastille Day atmosphere - patriotic decorations\, themed foods\, and celebratory mood. Visit early before parade begins at 10 AM.\n\nTransportation: Metro Line 7 from Censier-Daubenton (near market) to Châtelet for parade access. Return for evening fireworks at Eiffel Tower.\n\nAdmission: FREE - Parade viewing and fireworks are completely free from public areas.\n\nLanguage: French national celebration with international appeal and tourist-friendly atmosphere.\n\nOfficial Website: Official government celebrations
LOCATION:Champs-Élysées (parade)\, Eiffel Tower (fireworks)\, citywide celebrations
URL:https://www.france.fr/en/event/bastille-day-14-july/
CATEGORIES:National Holiday,Cultural,Free,Market-Friendly
STATUS:CONFIRMED
CLASS:PUBLIC
BEGIN:VALARM
ACTION:DISPLAY
DESCRIPTION:Bastille Day celebrations tomorrow - Vive la France!
TRIGGER:-P1D
END:VALARM
END:VEVENT

BEGIN:VEVENT
UID:jazz-a-la-villette-2026@rue-mouffetard.com
DTSTART;TZID=Europe/Paris:20260828T190000
DTEND;TZID=Europe/Paris:20260907T230000
SUMMARY:Jazz à la Villette 2026
DESCRIPTION:One of the world's leading jazz festivals featuring international and French artists at prestigious venues including Philharmonie de Paris\, Grande Halle de La Villette\, and Cité de la Musique.\n\nMarket Integration: Late summer festival perfect for combining with seasonal market produce. Morning market shopping\, evening world-class jazz performances.\n\nTransportation: Metro Line 5 to Porte de Pantin - direct connection from Latin Quarter (approximately 20 minutes).\n\nAdmission: Ticketed performances - prices vary by venue and artist. Premium international jazz experience.\n\nLanguage: International festival with multilingual support and world-renowned artists.\n\nOfficial Website: lavillette.com
LOCATION:Parc de la Villette - Philharmonie de Paris\, Grande Halle\, Cité de la Musique
URL:https://lavillette.com
CATEGORIES:Music,Jazz,Festival,International
STATUS:PROJECTED
CLASS:PUBLIC
BEGIN:VALARM
ACTION:DISPLAY
DESCRIPTION:Jazz à la Villette festival begins tomorrow
TRIGGER:-P1D
END:VALARM
END:VEVENT

BEGIN:VEVENT
UID:european-heritage-days-2026@rue-mouffetard.com
DTSTART;TZID=Europe/Paris:20260919T100000
DTEND;TZID=Europe/Paris:20260921T180000
SUMMARY:European Heritage Days 2026 (Journées du Patrimoine)
DESCRIPTION:Europe's biggest cultural event with free access to over 300 Paris museums\, monuments\, and heritage sites. Discover normally restricted historical locations with special tours and presentations.\n\nMarket Integration: Perfect weekend to combine Rue Mouffetard market visits with cultural discoveries throughout the Latin Quarter. Many heritage sites within walking distance of the market.\n\nTransportation: Extensive heritage sites in Latin Quarter walkable from market\, Metro access to distant locations throughout Paris.\n\nAdmission: FREE - All events\, tours\, and site access completely free during the weekend.\n\nLanguage: French with some English guided tours available at major sites.\n\nOfficial Website: journeesdupatrimoine.culture.gouv.fr
LOCATION:Over 300 sites throughout Paris\, extensive Latin Quarter participation
URL:https://journeesdupatrimoine.culture.gouv.fr
CATEGORIES:Cultural,Heritage,Free,Market-Friendly
STATUS:CONFIRMED
CLASS:PUBLIC
BEGIN:VALARM
ACTION:DISPLAY
DESCRIPTION:European Heritage Days weekend begins tomorrow - free access to 300+ sites!
TRIGGER:-P1D
END:VALARM
END:VEVENT

BEGIN:VEVENT
UID:christmas-markets-paris-2026@rue-mouffetard.com
DTSTART;TZID=Europe/Paris:20261125T100000
DTEND;TZID=Europe/Paris:20270101T200000
SUMMARY:Paris Christmas Markets 2026-2027
DESCRIPTION:Traditional Christmas markets throughout Paris featuring artisan crafts\, holiday foods\, mulled wine\, and festive atmosphere. Multiple locations including Saint-Germain-des-Prés\, Notre-Dame area\, and Tuileries.\n\nMarket Integration: Perfect winter complement to regular market visits - experience Rue Mouffetard's regular market in the morning\, then explore Christmas markets for holiday crafts and seasonal treats.\n\nTransportation: Saint-Germain Christmas market easily walkable from Rue Mouffetard\, other locations accessible via Metro.\n\nAdmission: FREE to browse markets\, individual purchase prices for food and crafts. Excellent for holiday shopping.\n\nLanguage: French markets with tourist-friendly vendors\, holiday atmosphere transcends language barriers.\n\nOfficial Website: Multiple organizers - verify specific locations and dates closer to season
LOCATION:Saint-Germain-des-Prés\, Notre-Dame area\, Tuileries\, La Défense
URL:https://www.sortiraparis.com/en/what-to-do-paris/exhibitions-museums/guides/46507-christmas-markets-in-paris
CATEGORIES:Christmas,Market,Cultural,Seasonal
STATUS:PROJECTED
CLASS:PUBLIC
BEGIN:VALARM
ACTION:DISPLAY
DESCRIPTION:Paris Christmas Markets season begins tomorrow
TRIGGER:-P1D
END:VALARM
END:VEVENT

BEGIN:VEVENT
UID:hyper-weekend-festival-2026@rue-mouffetard.com
DTSTART;TZID=Europe/Paris:20260123T190000
DTEND;TZID=Europe/Paris:20260125T230000
SUMMARY:Hyper Weekend Festival 2026
DESCRIPTION:Immersive music festival at Maison de la Radio featuring established French artists and young talent. Three days of concerts and musical creations in prestigious Radio France spaces.\n\nMarket Integration: Winter weekend combining morning market visits with evening contemporary music performances.\n\nTransportation: Metro Line 6 to Passy or Line 9 to Ranelagh. About 30 minutes from Latin Quarter.\n\nAdmission: Ticketed event - check official website for pricing\n\nLanguage: French music festival with international appeal.\n\nOfficial Website: maisondelaradio.fr
LOCATION:Maison de la Radio et de la Musique\, 116 Avenue du Président Kennedy\, 75016 Paris
URL:https://maisondelaradio.fr
CATEGORIES:Music,Festival,Contemporary,French Music
STATUS:CONFIRMED
CLASS:PUBLIC
BEGIN:VALARM
ACTION:DISPLAY
DESCRIPTION:Hyper Weekend Festival begins tomorrow!
TRIGGER:-P1D
END:VALARM
END:VEVENT

BEGIN:VEVENT
UID:martin-parr-global-warning-2026@rue-mouffetard.com
DTSTART;VALUE=DATE:20260130
DTEND;VALUE=DATE:20260525
SUMMARY:Martin Parr - Global Warning
DESCRIPTION:Major photography exhibition at Jeu de Paume revisiting Martin Parr's work through themes of climate disorder\, tourism\, consumer culture\, and the excesses of modern life.\n\nMarket Integration: Easy to pair with a morning at Rue Mouffetard followed by an afternoon photography exhibition in central Paris.\n\nTransportation: Metro Line 7 from Place Monge to Palais Royal-Musée du Louvre\, then a short walk through the Tuileries.\n\nAdmission: Ticketed exhibition - book ahead for popular weekends.\n\nLanguage: French and English visitor information available.\n\nOfficial Website: jeudepaume.org
LOCATION:Jeu de Paume\, Paris
URL:https://www.jeudepaume.org/en/evenement/martin-parr-global-warning/
CATEGORIES:Art,Exhibition,Photography,Cultural Heritage
STATUS:CONFIRMED
CLASS:PUBLIC
BEGIN:VALARM
ACTION:DISPLAY
DESCRIPTION:Martin Parr's Global Warning opens tomorrow at Jeu de Paume
TRIGGER:-P1D
END:VALARM
END:VEVENT

BEGIN:VEVENT
UID:mika-concert-paris-2026@rue-mouffetard.com
DTSTART;TZID=Europe/Paris:20260216T200000
DTEND;TZID=Europe/Paris:20260216T230000
SUMMARY:Mika Concert at Accor Arena Paris
DESCRIPTION:International pop star Mika returns to France with his colorful\, energetic pop universe. Part of his 2026 tour series with seven concerts across France.\n\nMarket Integration: Evening entertainment perfect after morning market visit and Parisian exploration.\n\nTransportation: Metro Line 6 or 14 to Bercy. About 25 minutes from Latin Quarter.\n\nAdmission: Ticketed concert - check official booking sites\n\nLanguage: International pop concert\, English/French mix.\n\nOfficial Website: accorarenatour.com
LOCATION:Accor Arena\, 8 Boulevard de Bercy\, 75012 Paris
URL:https://accorarenatour.com
CATEGORIES:Music,Concert,Pop,International
STATUS:CONFIRMED
CLASS:PUBLIC
BEGIN:VALARM
ACTION:DISPLAY
DESCRIPTION:Mika concert at Accor Arena tomorrow!
TRIGGER:-P1D
END:VALARM
END:VEVENT

BEGIN:VEVENT
UID:circulations-festival-2026@rue-mouffetard.com
DTSTART;VALUE=DATE:20260321
DTEND;VALUE=DATE:20260518
SUMMARY:Circulation(s) Festival 2026
DESCRIPTION:The 16th edition of Circulation(s) brings emerging European photography to CENTQUATRE-PARIS with 26 artists from 15 nationalities and a special Ireland focus.\n\nMarket Integration: Pair a morning market stroll with an afternoon devoted to new photography and contemporary visual culture.\n\nTransportation: Metro Line 7 to Louis Blanc or Riquet with a short onward walk to CENTQUATRE-PARIS.\n\nAdmission: Ticketed exhibition festival - check the official site for the latest passes and opening times.\n\nLanguage: French and English festival information available.\n\nOfficial Website: festival-circulations.com
LOCATION:CENTQUATRE-PARIS\, 75019 Paris
URL:https://www.festival-circulations.com/en/
CATEGORIES:Art,Festival,Photography,Cultural
STATUS:CONFIRMED
CLASS:PUBLIC
BEGIN:VALARM
ACTION:DISPLAY
DESCRIPTION:Circulation(s) Festival opens tomorrow at CENTQUATRE-PARIS
TRIGGER:-P1D
END:VALARM
END:VEVENT

BEGIN:VEVENT
UID:bread-festival-paris-2026@rue-mouffetard.com
DTSTART;VALUE=DATE:20260508
DTEND;VALUE=DATE:20260518
SUMMARY:Fête du Pain 2026 - Paris Bread Festival
DESCRIPTION:Ten days of artisan baking demonstrations\, tastings\, competitions\, and family-friendly workshops return to the parvis of Notre-Dame with a 500 m² temporary bakery in the heart of Paris.\n\nMarket Integration: Ideal for anyone already exploring Rue Mouffetard's bakeries and food shops - visit the market in the morning\, then compare Paris baking traditions at Notre-Dame.\n\nTransportation: RER B/C or Metro Line 4 to Saint-Michel Notre-Dame\, then a short walk across the Île de la Cité.\n\nAdmission: FREE to enter and browse; tasting and purchase costs vary by stand.\n\nLanguage: French demonstrations with plenty of visual appeal for international visitors.\n\nOfficial Website: boulangerie.org
LOCATION:Parvis de Notre-Dame\, 75004 Paris
URL:https://www.sortiraparis.com/hotel-restaurant/tendances-food/articles/40952-la-fete-du-pain-2026-l-immense-boulangerie-ephemere-sur-le-parvis-de-notre-dame-de-paris
CATEGORIES:Food,Cultural,Bread,Artisan,Free,Market-Friendly
STATUS:CONFIRMED
CLASS:PUBLIC
BEGIN:VALARM
ACTION:DISPLAY
DESCRIPTION:Fête du Pain opens tomorrow on the Notre-Dame parvis
TRIGGER:-P1D
END:VALARM
END:VEVENT

BEGIN:VEVENT
UID:100-percent-festival-2026@rue-mouffetard.com
DTSTART;TZID=Europe/Paris:20260410T140000
DTEND;TZID=Europe/Paris:20260511T220000
SUMMARY:100% Festival at La Villette 2026
DESCRIPTION:Multidisciplinary festival at Parc de La Villette featuring contemporary arts\, performances\, music\, and exhibitions. One of Paris's most innovative spring cultural events.\n\nMarket Integration: Month-long festival perfect for multiple visits - combine market mornings with afternoon/evening cultural discoveries.\n\nTransportation: Metro Line 7 from Place Monge to Porte de la Villette (direct). About 20 minutes.\n\nAdmission: Some free events\, ticketed performances vary by artist\n\nLanguage: International contemporary arts\, multilingual support.\n\nOfficial Website: lavillette.com
LOCATION:Parc de la Villette\, Grande Halle\, 211 Avenue Jean Jaurès\, 75019 Paris
URL:https://lavillette.com
CATEGORIES:Arts,Festival,Contemporary,Multidisciplinary,Market-Friendly
STATUS:CONFIRMED
CLASS:PUBLIC
BEGIN:VALARM
ACTION:DISPLAY
DESCRIPTION:100% Festival at La Villette continues this month!
TRIGGER:-P1D
END:VALARM
END:VEVENT

BEGIN:VEVENT
UID:last-train-concert-2026@rue-mouffetard.com
DTSTART;TZID=Europe/Paris:20261003T200000
DTEND;TZID=Europe/Paris:20261003T230000
SUMMARY:Last Train Concert at Zénith Paris
DESCRIPTION:French rock band Last Train performs at Le Zénith de Paris following their successful festival tour and European performances. First-ever concert at this prestigious venue.\n\nMarket Integration: Evening concert following morning market visit and Parisian day exploration.\n\nTransportation: Metro Line 5 to Porte de Pantin. About 25 minutes from Latin Quarter.\n\nAdmission: Ticketed concert - check official booking sites\n\nLanguage: French rock music with international appeal.\n\nOfficial Website: zenith-paris.com
LOCATION:Le Zénith Paris\, 211 Avenue Jean Jaurès\, 75019 Paris
URL:https://zenith-paris.com
CATEGORIES:Music,Concert,Rock,French Music
STATUS:CONFIRMED
CLASS:PUBLIC
BEGIN:VALARM
ACTION:DISPLAY
DESCRIPTION:Last Train concert at Zénith tomorrow!
TRIGGER:-P1D
END:VALARM
END:VEVENT

BEGIN:VEVENT
UID:leonora-carrington-2026@rue-mouffetard.com
DTSTART;TZID=Europe/Paris:20260218T103000
DTEND;TZID=Europe/Paris:20260719T190000
SUMMARY:Leonora Carrington Exhibition 2026
DESCRIPTION:Major Musée du Luxembourg retrospective devoted to Leonora Carrington\, bringing together 126 works that explore surrealism\, mythology\, migration\, and transformation.\n\nMarket Integration: A refined Left Bank pairing - start with breakfast or shopping on Rue Mouffetard\, then continue to this wide-ranging surrealist exhibition near the Luxembourg Gardens.\n\nTransportation: About 20 minutes on foot from Rue Mouffetard or a short bus or Metro ride deeper into the 6th arrondissement.\n\nAdmission: Full price €14\, reduced price €10\, with youth and free-entry offers listed by the museum.\n\nLanguage: French and English visitor information available.\n\nOfficial Website: museeduluxembourg.fr
LOCATION:Musée du Luxembourg\, 75006 Paris
URL:https://museeduluxembourg.fr/en/agenda/evenement/leonora-carrington
CATEGORIES:Art,Exhibition,Surrealism,Cultural
STATUS:CONFIRMED
CLASS:PUBLIC
BEGIN:VALARM
ACTION:DISPLAY
DESCRIPTION:Leonora Carrington opens tomorrow at the Musée du Luxembourg
TRIGGER:-P1D
END:VALARM
END:VEVENT

BEGIN:VEVENT
UID:grand-palais-ice-rink-2026@rue-mouffetard.com
DTSTART;TZID=Europe/Paris:20261213T100000
DTEND;TZID=Europe/Paris:20270107T220000
SUMMARY:Grand Palais des Glaces 2026 - World's Largest Indoor Ice Rink
DESCRIPTION:Iconic ice skating returns to Grand Palais after 5-year absence! World's largest indoor ice rink beneath the magnificent glass roof. Magical winter experience in one of Paris's most beautiful buildings.\n\nMarket Integration: Perfect December activity - morning market visit for warm food\, afternoon/evening ice skating at this spectacular venue.\n\nTransportation: Metro Lines 1\, 13 to Champs-Élysées-Clemenceau. About 30 minutes from Latin Quarter.\n\nAdmission: Ticketed entry - includes skate rental. Check official website for pricing.\n\nLanguage: International activity\, minimal language barriers.\n\nOfficial Website: grandpalais.fr
LOCATION:Grand Palais\, Avenue Winston Churchill\, 75008 Paris
URL:https://grandpalais.fr
CATEGORIES:Winter Activity,Ice Skating,Family-Friendly,Iconic Venue,Holiday
STATUS:CONFIRMED
CLASS:PUBLIC
BEGIN:VALARM
ACTION:DISPLAY
DESCRIPTION:Grand Palais ice rink opens tomorrow - book your tickets!
TRIGGER:-P1D
END:VALARM
END:VEVENT

END:VCALENDAR
