BEGIN:VCALENDAR
VERSION:2.0
PRODID:-//rue-mouffetard.com//2027 Events Calendar//EN
CALSCALE:GREGORIAN
METHOD:PUBLISH
X-WR-CALNAME:Rue Mouffetard 2027 Events - Paris Cultural Calendar
X-WR-CALDESC:Cultural events and festivals in Paris perfect for visitors to Rue Mouffetard market street. Featuring official French cultural celebrations, market-friendly timing, and Latin Quarter accessible events.
X-WR-TIMEZONE:Europe/Paris

BEGIN:VEVENT
UID:hyper-weekend-festival-2027@rue-mouffetard.com
DTSTART;TZID=Europe/Paris:20270122T190000
DTEND;TZID=Europe/Paris:20270124T230000
SUMMARY:Hyper Weekend Festival 2027
DESCRIPTION:Immersive music festival at Maison de la Radio featuring established French artists and young talent. Three days of concerts and musical creations in prestigious Radio France spaces.\n\nMarket Integration: Winter weekend combining morning market visits with evening contemporary music performances.\n\nTransportation: Metro Line 6 to Passy or Line 9 to Ranelagh. About 30 minutes from Latin Quarter.\n\nAdmission: Ticketed event - check official website for pricing\n\nLanguage: French music festival with international appeal.\n\nOfficial Website: maisondelaradio.fr
LOCATION:Maison de la Radio et de la Musique\, 116 Avenue du Président Kennedy\, 75016 Paris
URL:https://maisondelaradio.fr
CATEGORIES:Music,Festival,Contemporary,French Music
STATUS:PROJECTED
CLASS:PUBLIC
BEGIN:VALARM
ACTION:DISPLAY
DESCRIPTION:Hyper Weekend Festival begins tomorrow!
TRIGGER:-P1D
END:VALARM
END:VEVENT

BEGIN:VEVENT
UID:salon-du-livre-2027@rue-mouffetard.com
DTSTART;TZID=Europe/Paris:20270319T090000
DTEND;TZID=Europe/Paris:20270323T200000
SUMMARY:Salon du Livre de Paris 2027 - Paris Book Fair
DESCRIPTION:One of the world's largest book fairs bringing together thousands of publishers, authors, and book lovers from around the globe. Major international literary event celebrating French and world literature.\n\nMarket Integration: Excellent spring activity - morning market shopping\, afternoon literary explorations at the book fair. The Latin Quarter spirit aligns perfectly with this celebration of literature.\n\nTransportation: Metro Line 12 to Convention or RER C to Issy-Val de Seine for Parc des Expositions Versailles. Check official website for venue details.\n\nAdmission: Ticketed entry - check official website for current pricing\n\nLanguage: French with major international presence and English-language titles widely available.\n\nOfficial Website: salondulivreparis.com
LOCATION:Paris Expo Porte de Versailles\, 1 Place de la Porte de Versailles\, 75015 Paris
URL:https://www.livreparis.com/
CATEGORIES:Cultural,Literature,Books,International
STATUS:PROJECTED
CLASS:PUBLIC
BEGIN:VALARM
ACTION:DISPLAY
DESCRIPTION:Salon du Livre de Paris begins tomorrow!
TRIGGER:-P1D
END:VALARM
END:VEVENT

BEGIN:VEVENT
UID:jema-2027@rue-mouffetard.com
DTSTART;TZID=Europe/Paris:20270406T100000
DTEND;TZID=Europe/Paris:20270411T180000
SUMMARY:European Artistic Crafts Days 2027 (JEMA)
DESCRIPTION:Spring celebration of French artistic crafts with artisan workshops open to the public throughout Paris. Perfect complement to Rue Mouffetard's culinary arts - discover traditional French craftsmanship.\n\nMarket Integration: Morning market visit for fresh ingredients\, afternoon artisan workshop tours in the Latin Quarter. Many workshops walkable from Rue Mouffetard.\n\nTransportation: Multiple Latin Quarter locations accessible on foot\, Metro connections for distant workshops.\n\nAdmission: Varies by workshop\, many free demonstrations available.\n\nOfficial Website: journeesdesmetiersdart.fr
LOCATION:Artisan workshops throughout Paris\, Latin Quarter locations
URL:https://www.journeesdesmetiersdart.fr/
CATEGORIES:Cultural,Art,Market-Friendly
STATUS:PROJECTED
CLASS:PUBLIC
BEGIN:VALARM
ACTION:DISPLAY
DESCRIPTION:European Artistic Crafts Days begins tomorrow
TRIGGER:-P1D
END:VALARM
END:VEVENT

BEGIN:VEVENT
UID:fete-du-pain-2027@rue-mouffetard.com
DTSTART;TZID=Europe/Paris:20270501T100000
DTEND;TZID=Europe/Paris:20270511T180000
SUMMARY:Fête du Pain 2027 - Paris Bread Festival
DESCRIPTION:Traditional Bread Festival celebrating artisan French baking on the parvis of Notre-Dame. Demonstrations\, tastings\, artisan baker showcases\, and celebration of French bread-making traditions.\n\nMarket Integration: Perfect complement to Rue Mouffetard market's renowned bakeries - learn about traditional techniques\, then shop authentic baked goods at the market.\n\nTransportation: Metro Line 4 to Cité or RER B/C to Saint-Michel Notre-Dame. Walking distance from Latin Quarter (15 minutes).\n\nAdmission: FREE - All activities and demonstrations free to public\n\nLanguage: French with visual demonstrations accessible to all.\n\nOfficial Website: parisinfo.com/fete-du-pain
LOCATION:Parvis de Notre-Dame\, 75004 Paris
URL:https://www.fetedupain.com/
CATEGORIES:Food,Cultural,Bread,Artisan,Free,Market-Friendly
STATUS:PROJECTED
CLASS:PUBLIC
BEGIN:VALARM
ACTION:DISPLAY
DESCRIPTION:Fête du Pain bread festival begins tomorrow!
TRIGGER:-P1D
END:VALARM
END:VEVENT

BEGIN:VEVENT
UID:fete-de-la-musique-2027@rue-mouffetard.com
DTSTART;TZID=Europe/Paris:20270621T140000
DTEND;TZID=Europe/Paris:20270621T230000
SUMMARY:Fête de la Musique 2027 - Summer Solstice Music Festival
DESCRIPTION:Annual celebration of music marking the summer solstice with free concerts throughout Paris. Streets\, parks\, venues\, and Metro stations transform into a citywide music festival.\n\nMarket Integration: Perfect opportunity for morning market shopping (8-10 AM) followed by afternoon and evening music events throughout the Latin Quarter.\n\nTransportation: Events throughout Latin Quarter accessible on foot from Rue Mouffetard. Major stages at Place de la Bastille\, Hôtel des Invalides\, Place de la République.\n\nAdmission: FREE - All concerts completely free to the public\n\nLanguage: International music celebration\, accessible to all visitors.\n\nOfficial Website: fetedelamusique.culture.fr
LOCATION:Throughout Paris - Latin Quarter\, Place de la Bastille\, citywide venues
URL:https://fetedelamusique.culture.fr
CATEGORIES:Music,Festival,Free,Market-Friendly
STATUS:CONFIRMED
CLASS:PUBLIC
BEGIN:VALARM
ACTION:DISPLAY
DESCRIPTION:Fête de la Musique - prepare for citywide music celebration!
TRIGGER:-P1D
END:VALARM
END:VEVENT

BEGIN:VEVENT
UID:paris-jazz-festival-2027@rue-mouffetard.com
DTSTART;TZID=Europe/Paris:20270626T140000
DTEND;TZID=Europe/Paris:20270704T220000
SUMMARY:Paris Jazz Festival 2027
DESCRIPTION:Major outdoor jazz festival at Parc Floral attracting 110\,000 visitors annually. Multiple stages featuring international and French jazz artists in beautiful botanical garden setting.\n\nMarket Integration: Excellent summer activity - early morning market shopping\, afternoon picnic and jazz in the park. Perfect for combining fresh market produce with outdoor concert experience.\n\nTransportation: Metro Line 1 to Château de Vincennes\, then bus 112 to Parc Floral (about 45 minutes from Latin Quarter).\n\nAdmission: FREE weekend concerts\, small park entrance fee (approximately €2.60 in summer)\n\nLanguage: International music festival with minimal language barriers.\n\nOfficial Website: parisjazzfestival.fr
LOCATION:Parc Floral de Paris\, Bois de Vincennes
URL:https://parisjazzfestival.fr
CATEGORIES:Music,Jazz,Festival,Market-Friendly
STATUS:PROJECTED
CLASS:PUBLIC
BEGIN:VALARM
ACTION:DISPLAY
DESCRIPTION:Paris Jazz Festival begins this weekend
TRIGGER:-P1D
END:VALARM
END:VEVENT

BEGIN:VEVENT
UID:bastille-day-2027@rue-mouffetard.com
DTSTART;TZID=Europe/Paris:20270714T100000
DTEND;TZID=Europe/Paris:20270714T230000
SUMMARY:Bastille Day 2027 - French National Day
DESCRIPTION:French National Day celebrating the French Revolution with military parade on Champs-Élysées and spectacular fireworks at the Eiffel Tower. The entire city celebrates with patriotic atmosphere and special events.\n\nMarket Integration: Experience Rue Mouffetard market with special Bastille Day atmosphere - patriotic decorations\, themed foods\, and celebratory mood. Visit early before parade begins at 10 AM.\n\nTransportation: Metro Line 7 from Censier-Daubenton (near market) to Châtelet for parade access. Return for evening fireworks at Eiffel Tower.\n\nAdmission: FREE - Parade viewing and fireworks are completely free from public areas.\n\nLanguage: French national celebration with international appeal and tourist-friendly atmosphere.\n\nOfficial Website: france.fr/en/event/bastille-day
LOCATION:Champs-Élysées (parade)\, Eiffel Tower (fireworks)\, citywide celebrations
URL:https://www.france.fr/en/event/bastille-day-14-july/
CATEGORIES:National Holiday,Cultural,Free,Market-Friendly
STATUS:CONFIRMED
CLASS:PUBLIC
BEGIN:VALARM
ACTION:DISPLAY
DESCRIPTION:Bastille Day celebrations tomorrow - Vive la France!
TRIGGER:-P1D
END:VALARM
END:VEVENT

BEGIN:VEVENT
UID:jazz-a-la-villette-2027@rue-mouffetard.com
DTSTART;TZID=Europe/Paris:20270827T190000
DTEND;TZID=Europe/Paris:20270906T230000
SUMMARY:Jazz à la Villette 2027
DESCRIPTION:One of the world's leading jazz festivals featuring international and French artists at prestigious venues including Philharmonie de Paris\, Grande Halle de La Villette\, and Cité de la Musique.\n\nMarket Integration: Late summer festival perfect for combining with seasonal market produce. Morning market shopping\, evening world-class jazz performances.\n\nTransportation: Metro Line 5 to Porte de Pantin - direct connection from Latin Quarter (approximately 20 minutes).\n\nAdmission: Ticketed performances - prices vary by venue and artist. Premium international jazz experience.\n\nLanguage: International festival with multilingual support and world-renowned artists.\n\nOfficial Website: lavillette.com
LOCATION:Parc de la Villette - Philharmonie de Paris\, Grande Halle\, Cité de la Musique
URL:https://lavillette.com
CATEGORIES:Music,Jazz,Festival,International
STATUS:PROJECTED
CLASS:PUBLIC
BEGIN:VALARM
ACTION:DISPLAY
DESCRIPTION:Jazz à la Villette festival begins tomorrow
TRIGGER:-P1D
END:VALARM
END:VEVENT

BEGIN:VEVENT
UID:european-heritage-days-2027@rue-mouffetard.com
DTSTART;TZID=Europe/Paris:20270918T100000
DTEND;TZID=Europe/Paris:20270920T180000
SUMMARY:European Heritage Days 2027 (Journées du Patrimoine)
DESCRIPTION:Europe's biggest cultural event with free access to over 300 Paris museums\, monuments\, and heritage sites. Discover normally restricted historical locations with special tours and presentations.\n\nMarket Integration: Perfect weekend to combine Rue Mouffetard market visits with cultural discoveries throughout the Latin Quarter. Many heritage sites within walking distance of the market.\n\nTransportation: Extensive heritage sites in Latin Quarter walkable from market\, Metro access to distant locations throughout Paris.\n\nAdmission: FREE - All events\, tours\, and site access completely free during the weekend.\n\nLanguage: French with some English guided tours available at major sites.\n\nOfficial Website: journeesdupatrimoine.culture.gouv.fr
LOCATION:Over 300 sites throughout Paris\, extensive Latin Quarter participation
URL:https://journeesdupatrimoine.culture.gouv.fr
CATEGORIES:Cultural,Heritage,Free,Market-Friendly
STATUS:PROJECTED
CLASS:PUBLIC
BEGIN:VALARM
ACTION:DISPLAY
DESCRIPTION:European Heritage Days weekend begins tomorrow - free access to 300+ sites!
TRIGGER:-P1D
END:VALARM
END:VEVENT

BEGIN:VEVENT
UID:nuit-blanche-2027@rue-mouffetard.com
DTSTART;TZID=Europe/Paris:20271002T200000
DTEND;TZID=Europe/Paris:20271003T070000
SUMMARY:Nuit Blanche 2027 - Paris All-Night Art Festival
DESCRIPTION:Paris's famous all-night contemporary art festival transforms the city with free art installations\, performances\, and events throughout the night. Major Latin Quarter and 5th arrondissement participation.\n\nMarket Integration: Art festival runs through the night - visit the Latin Quarter's installations after exploring the evening street atmosphere near Rue Mouffetard.\n\nTransportation: Metro runs extended hours during Nuit Blanche. Easy access throughout the city from Censier-Daubenton.\n\nAdmission: FREE - All art installations and events free to the public\n\nLanguage: Visual art accessible to all visitors.\n\nOfficial Website: nuitblanche.paris.fr
LOCATION:Throughout Paris\, 5th Arrondissement Latin Quarter\, citywide
URL:https://nuitblanche.paris.fr
CATEGORIES:Art,Contemporary,Free,Night,Cultural
STATUS:PROJECTED
CLASS:PUBLIC
BEGIN:VALARM
ACTION:DISPLAY
DESCRIPTION:Nuit Blanche all-night art festival tonight!
TRIGGER:-P1D
END:VALARM
END:VEVENT

BEGIN:VEVENT
UID:christmas-markets-paris-2027@rue-mouffetard.com
DTSTART;TZID=Europe/Paris:20271124T100000
DTEND;TZID=Europe/Paris:20280101T200000
SUMMARY:Paris Christmas Markets 2027-2028
DESCRIPTION:Traditional Christmas markets throughout Paris featuring artisan crafts\, holiday foods\, mulled wine\, and festive atmosphere. Multiple locations including Saint-Germain-des-Prés\, Notre-Dame area\, and Tuileries.\n\nMarket Integration: Perfect winter complement to regular market visits - experience Rue Mouffetard's regular market in the morning\, then explore Christmas markets for holiday crafts and seasonal treats.\n\nTransportation: Saint-Germain Christmas market easily walkable from Rue Mouffetard\, other locations accessible via Metro.\n\nAdmission: FREE to browse markets\, individual purchase prices for food and crafts. Excellent for holiday shopping.\n\nLanguage: French markets with tourist-friendly vendors\, holiday atmosphere transcends language barriers.\n\nOfficial Website: sortiraparis.com/christmas-markets-paris
LOCATION:Saint-Germain-des-Prés\, Notre-Dame area\, Tuileries\, La Défense
URL:https://www.sortiraparis.com/en/what-to-do-paris/exhibitions-museums/guides/46507-christmas-markets-in-paris
CATEGORIES:Christmas,Market,Cultural,Seasonal
STATUS:PROJECTED
CLASS:PUBLIC
BEGIN:VALARM
ACTION:DISPLAY
DESCRIPTION:Paris Christmas Markets season begins tomorrow
TRIGGER:-P1D
END:VALARM
END:VEVENT

BEGIN:VEVENT
UID:grand-palais-glaces-2027@rue-mouffetard.com
DTSTART;TZID=Europe/Paris:20271212T100000
DTEND;TZID=Europe/Paris:20280105T220000
SUMMARY:Grand Palais des Glaces 2027 - World's Largest Indoor Ice Rink
DESCRIPTION:Iconic ice skating returns to Grand Palais - the world's largest indoor ice rink beneath the stunning historic glass roof of the Grand Palais. An extraordinary Parisian winter tradition.\n\nMarket Integration: Perfect winter day combining morning Rue Mouffetard market visit with afternoon ice skating at this iconic venue.\n\nTransportation: Metro Lines 1\, 13 to Champs-Élysées-Clemenceau or RER C to Invalides. About 25 minutes from Latin Quarter.\n\nAdmission: Ticketed event - check official website for current pricing and session times\n\nLanguage: International attraction with minimal language barriers.\n\nOfficial Website: grandpalais.fr
LOCATION:Grand Palais\, 3 Avenue du Général Eisenhower\, 75008 Paris
URL:https://www.grandpalais.fr/
CATEGORIES:Winter,Ice Skating,Cultural,Family-Friendly,Seasonal
STATUS:PROJECTED
CLASS:PUBLIC
BEGIN:VALARM
ACTION:DISPLAY
DESCRIPTION:Grand Palais des Glaces ice rink opens tomorrow!
TRIGGER:-P1D
END:VALARM
END:VEVENT

END:VCALENDAR
